BEGIN:VCALENDAR
VERSION:2.0
CALSCALE:GREGORIAN
PRODID:-//MyApp//Calendar 1.0//EN
BEGIN:VEVENT
METHOD:PUBLISH
UID:65797@regionalniportaly.cz
DTSTAMP:20260424T105340Z
DTSTART;VALUE=DATE:20260613
DTEND;VALUE=DATE:20260614
SUMMARY:Azahar: Flamenco & World music
DESCRIPTION:Propojení vášnivého flamenca s vlivy latinskoamerické a sefardské hudby se stalo inspirací pro projekt flamenco–world music s mezinárodním obsazením. Na jednom pódiu se setkávají flamenková tanečnice Virginia Delgado\, uruguayský basista Andrés Ibarburu\, izraelský perkusista Azar Abou a kytarista a skladatel Petr Vít.&nbsp\;Hudební formace AZAHAR se pohybuje na vlnách mezi Iberským poloostrovem a Jižní Amerikou. Flamenco\, bossa nova i sefardské písně zde dostávají osobitou podobu – podtrženou brilantní kytarovou technikou\, barvitými perkusemi Azara Abou a nápaditými basovými linkami Andrése Ibarburu.&nbsp\;Virginia Delgado ve svém tanci propojuje vášeň a eleganci s hlubokými emocemi\, v nichž se odráží jak nejhlubší smutek\, tak i jižanská radost ze života.&nbsp\;Hudba a tanec evokující zvuk mořského příboje\, ozvěny karnevalu i ticho vyprahlých andaluských plání…&nbsp\;Virginia Delgado – flamenkový tanecPetr Vít – kytaraAndrés Ibarburu – basová kytaraAzar Abou – perkuse
LOCATION:Mikulov
END:VEVENT
END:VCALENDAR