BEGIN:VCALENDAR
VERSION:2.0
CALSCALE:GREGORIAN
PRODID:-//MyApp//Calendar 1.0//EN
BEGIN:VEVENT
METHOD:PUBLISH
UID:64086@regionalniportaly.cz
DTSTAMP:20260421T173640Z
DTSTART;VALUE=DATE:20261021
DTEND;VALUE=DATE:20261022
SUMMARY:Rituální workshop – Vědomá tvorba sójových svíček se záměrem
DESCRIPTION:Vstupte do prostoru\, kde čas zpomaluje a každý okamžik dostává svůj význam. Tento workshop není jen o výrobě svíček – je to malý rituál\, který propojuje klid\, vědomou přítomnost a osobní záměr.\nKaždá svíčka\, kterou vytvoříte\, se stává symbolem vašeho vnitřního světa – tichou esencí toho\, co právě potřebujete udržet v srdci. Společně se zastavíme\, naladíme na záměr a dovolíme si prožít proces tvorby jako meditaci\, ve které každý dotek\, každý pohyb vosku\, má svůj hluboký smysl.\nWorkshop je otevřen všem\, kteří chtějí zpomalit\, naslouchat sobě a odnést si domů malý\, světlem prozářený talisman svého vnitřního světa.\nPod vedením Lenky Konvalinové\, zakladatelky značky VOŇAVÉ SVÍČKY\, se vědomě zastavíte a po krátké vedené meditaci\, kdy se naladíte na svůj záměr\, si vyzkoušíte výrobu vlastní rituální svíčky\, kterou si odlijete z čistého a neparfemovaného sojového vosku. Lenka se ruční výrobě sójových svíček věnuje více než 5 let a do workshopu vnáší zkušenosti\, jemnost a lásku k detailu. V kurzu dále vystoupí Marie Kaněrová – podnikatelka\, manažerka\, matka a donátorka\, která propojuje podnikání s lidskostí a podporou potřebných. Společně s dalšími podnikateli se věnuje i podpoře nemocných dětí. Ve své práci vychází z přesvědčení\, že skutečná rovnováha\, zdravé vztahy i udržitelné podnikání začínají u práce s emocemi a vnitřním klidem. Společně s Lenkou vytváří prostor pro zpomalení\, uvědomění a návrat k sobě – s jemností\, respektem a porozuměním pro ženy\, rodiče\, podnikatele\, zaměstnance i seniory\, kteří hledají klid\, rovnováhu a lidský rozměr v každodenním životě.    Použijeme 100% sojový vosk\, černou matnou sklenici o objemu 300 ml s bambusovým víčkem\, která působí minimalistickým a nadčasovým vzhledem a dřevěný knot\, který při hoření praská a vytváří uklidňující atmosféru.                       Pro koho je workshop vhodný: pro dospělé i teenagery od 15 let\, kteří chtějí strávit čas kreativně a v klidné\, voňavé atmosféře. Děti se mohou zúčastnit\, pokud splňují minimální věk a jsou doprovázeny dospělou osobou. Každé dítě potřebuje vlastní vstupenku.Během tohoto workshopu vyrobíte 1 svíčku v 300 ml černé matné sklenici s bambusovým víčkem a vlastním záměrem. \nBěhem worksopu si povíme také tipy\, jak se o svíčku starat\, aby hořela čistě a dlouho\, jak pracovat s rituální svíčkou\, dále zajímavosti o použivaných materiálech na výrobu svíček  a  také něco z historie.\nZahrnuté materiály:Skleněná nádoba na svíčku\, sójový vosk\, knoty\, držáky knotů.\nDélka90 minut\nMinimální věkWorkshop je vhodný pro účastníky od 15 let z důvodu bezpečnosti práce s horkým voskem.
LOCATION:Bohutice
END:VEVENT
END:VCALENDAR