BEGIN:VCALENDAR
VERSION:2.0
CALSCALE:GREGORIAN
PRODID:-//MyApp//Calendar 1.0//EN
BEGIN:VEVENT
METHOD:PUBLISH
UID:62949@regionalniportaly.cz
DTSTAMP:20260422T075847Z
DTSTART;VALUE=DATE:20260306
DTEND;VALUE=DATE:20260307
SUMMARY:Divadlo Ať žije Bouchon!
DESCRIPTION:Ať žije Bouchon! je satirická komedie od Jeana Della a Géralda Sibleyrase\, která vtipně reflektuje absurditu byrokracie a lidskou vynalézavost při získávání evropských dotací. Děj se odehrává v malé vesnici Bouchon\, kde starosta Jacques za pomoci sekretářky Odetty a Nicolase\, dospělého muže převlečeného za školáka\, vytváří iluzi prosperující obce...a co se stane\, když do tohoto světa dorazí úředník z Bruselu?
LOCATION:Prušánky
END:VEVENT
END:VCALENDAR