BEGIN:VCALENDAR
VERSION:2.0
CALSCALE:GREGORIAN
PRODID:-//MyApp//Calendar 1.0//EN
BEGIN:VEVENT
METHOD:PUBLISH
UID:62223@regionalniportaly.cz
DTSTAMP:20260422T005815Z
DTSTART;VALUE=DATE:20260404
DTEND;VALUE=DATE:20260405
SUMMARY:Tradiční výstava vín v Pavlově
DESCRIPTION:V sobotu 4. 4. 2026 se v&nbsp\;pavlovském kulturním domě koná již 43. ročník tradiční výstavy vín\, kde máte možnost ochutnat cca 600 vzorků místních i přespolních vinařů. Dobrou náladu bude dotvářet vystoupení cimbálové muziky Lália.Začátek v 10:00 hod. (otevření sálu od 9:30)\, konec v 18:00 hod.Cena vstupného 500 Kč obsahuje:kvalitní degustační skleničkukatalog výstavyvolnou ochutnávku vystavovaných vínkulturní program - vystoupení mužáckého pěvěckého sboru\, od 12 hod. cimbálová muzika Lália
LOCATION:Pavlov
END:VEVENT
END:VCALENDAR