BEGIN:VCALENDAR
VERSION:2.0
CALSCALE:GREGORIAN
PRODID:-//MyApp//Calendar 1.0//EN
BEGIN:VEVENT
METHOD:PUBLISH
UID:61867@regionalniportaly.cz
DTSTAMP:20260422T061436Z
DTSTART;VALUE=DATE:20260228
DTEND;VALUE=DATE:20260301
SUMMARY:Dětský maškarní karneval
DESCRIPTION:Srdečně vás zveme na maškarní karneval\, který ovládnou K-POP DEMON HUNTERS.\nMůžete se těšit na skvělý tematický animační program\, hry\, zábavu a hlavně tanec.\nO hudbu se nám postará DJ RADEG.\nMalování na obličej.\nPřijďte v jakémkoliv kostýmu.\nDoporučená věková kategorie 4-12 let.\nObčerstvení zajištěno.\nU vstupu si můžete ihned zakoupit lístek do tomboly\,\n1 ks/50 Kč.\nTěšíme se na všechny malé i velké návštěvníky!\nKdy: 28.2.2026 sobota 14:30–17:30\nMísto: Hotel Galant Mikulov\nVstupenky:\nv předprodeji dítě 150 Kč\nna místě dítě 200 Kč\ndospělí zdarma
LOCATION:Mikulov
END:VEVENT
END:VCALENDAR