BEGIN:VCALENDAR
VERSION:2.0
CALSCALE:GREGORIAN
PRODID:-//MyApp//Calendar 1.0//EN
BEGIN:VEVENT
METHOD:PUBLISH
UID:61866@regionalniportaly.cz
DTSTAMP:20260422T142023Z
DTSTART;VALUE=DATE:20260122
DTEND;VALUE=DATE:20260212
SUMMARY:Kurz keramiky pro dospělé
DESCRIPTION:Přijď si odpočinout od každodenních povinností a užij si relax při ruční výrobě keramiky.\nČekají nás čtyři setkání\, a to 22.1.\, 29.1.\, 5.2.\, 12.2. - čtvrtek od 17. do 19. hod.\nPro více informací nás můžete kontaktovat e-mailem: akce@duhovka.cz.\nCena kurzu: 1.500 Kč (v ceně hlína\, glazury\, výpal).\nMísto: SVČ Duhovka\, Svobody 6\, Mikulov\n 
LOCATION:Mikulov
END:VEVENT
END:VCALENDAR