BEGIN:VCALENDAR
VERSION:2.0
CALSCALE:GREGORIAN
PRODID:-//MyApp//Calendar 1.0//EN
BEGIN:VEVENT
METHOD:PUBLISH
UID:61125@regionalniportaly.cz
DTSTAMP:20260422T100248Z
DTSTART;VALUE=DATE:20260108
DTEND;VALUE=DATE:20260109
SUMMARY:Novoroční koncert "Na křídlech valčíku"
DESCRIPTION:Novoroční koncert Hodonínského smyčcového kvarteta "Na křídlech valčíku"Složení:Martin Holinka - 1. housleOndřej Jagoš - 2. housleDavid Herzán - violaPetra Moravcová - violoncelloSólo na klavír: Adéla Horká&nbsp\;&nbsp\;
LOCATION:Prušánky
END:VEVENT
END:VCALENDAR