BEGIN:VCALENDAR
VERSION:2.0
CALSCALE:GREGORIAN
PRODID:-//MyApp//Calendar 1.0//EN
BEGIN:VEVENT
METHOD:PUBLISH
UID:60635@regionalniportaly.cz
DTSTAMP:20260422T155519Z
DTSTART;VALUE=DATE:20251210
DTEND;VALUE=DATE:20251211
SUMMARY:Vánoční aroma harmonie
DESCRIPTION:Nebýt na to sama Mikulov
LOCATION:Mikulov
END:VEVENT
END:VCALENDAR