BEGIN:VCALENDAR
VERSION:2.0
CALSCALE:GREGORIAN
PRODID:-//MyApp//Calendar 1.0//EN
BEGIN:VEVENT
METHOD:PUBLISH
UID:60632@regionalniportaly.cz
DTSTAMP:20260422T095952Z
DTSTART;VALUE=DATE:20260210
DTEND;VALUE=DATE:20260211
SUMMARY:HALINA PAWLOWSKÁ - Manuál zralé ženy
DESCRIPTION:
LOCATION:Mikulov
END:VEVENT
END:VCALENDAR