BEGIN:VCALENDAR
VERSION:2.0
CALSCALE:GREGORIAN
PRODID:-//MyApp//Calendar 1.0//EN
BEGIN:VEVENT
METHOD:PUBLISH
UID:60626@regionalniportaly.cz
DTSTAMP:20260422T114302Z
DTSTART;VALUE=DATE:20251216
DTEND;VALUE=DATE:20251217
SUMMARY:Janek Ledecký Vánoční koncert
DESCRIPTION:
LOCATION:Mikulov
END:VEVENT
END:VCALENDAR