BEGIN:VCALENDAR
VERSION:2.0
CALSCALE:GREGORIAN
PRODID:-//MyApp//Calendar 1.0//EN
BEGIN:VEVENT
METHOD:PUBLISH
UID:60234@regionalniportaly.cz
DTSTAMP:20260422T100218Z
DTSTART;VALUE=DATE:20260104
DTEND;VALUE=DATE:20260105
SUMMARY:Novoroční koncert - Seňoritas
DESCRIPTION:Señoritas!Již samotný název napovídá\, že se jedná o dívčí uskupení\, a to smyčcové kvarteto. Jmenovitě jej tvoří: Tereza Lásková (I. housle) Kateřina Sedlářová (II. housle) Marta Hanaková (viola) a Eva Cahlová (violoncello).Tento soubor založily čtyři kamarádky\, které nespojuje jen společná záliba k hudbě\, ale také dlouholeté přátelství\, které se od dob studií v osobním a pracovním životě stále prohlubuje.Jak se říká "od Bacha po Vlacha"\, sedí i na hudební směr tohoto kvarteta. I když se jejich cesty protnuly na konzervatoři\, kde byly vedeny spíše ke klasické hudbě\, časem je stále více bavilo objevovat nové hudební žánry\, především populární a filmové melodie. V jejich repertoáru tedy naleznete jak skladby z období baroka či klasicismu\, tak nejnovější hity\, které denně slýcháte v rádiích. Záleží na přání a náladě dané společnosti.Nenechte si ujít tento jedinečný začátek roku v Kulturním domě ve Ždánicích. Koncert je spojen s novoročním přípitkem paní starostky.
LOCATION:Ždánice
END:VEVENT
END:VCALENDAR