BEGIN:VCALENDAR
VERSION:2.0
CALSCALE:GREGORIAN
PRODID:-//MyApp//Calendar 1.0//EN
BEGIN:VEVENT
METHOD:PUBLISH
UID:60100@regionalniportaly.cz
DTSTAMP:20260422T061534Z
DTSTART;VALUE=DATE:20260320
DTEND;VALUE=DATE:20260321
SUMMARY:EXIT Masquerade w/ DJ EKG | Zámek Mikulov
DESCRIPTION:Na pátek 20. března jsme si pro vás na zámku Mikulov přichystali tematickou noc 𝐄𝐗𝐈𝐓 𝐌𝐚𝐬𝐪𝐮𝐞𝐫𝐚𝐝𝐞.&nbsp\;&nbsp\;Těšte se na spojení elegance s elektronickou hudbou a to navíc v historickém sále mikulovského zámku.&nbsp\;&nbsp\;Hlavním hostem bude slovenský&nbsp\;𝐃𝐉 𝐄𝐊𝐆\, který stojí za projektem&nbsp\;Sunset Boulevard.&nbsp\;Dress code je pro tento večer povinný&nbsp\;Součástí vstupenky je welcome drink&nbsp\;EXIT MasqueradeFri. 20.3.2026Zámek Mikulov&nbsp\;(zámecký sál)Start 20:00L̶i̶n̶e̶-̶u̶p̶:̶𝐃𝐉 𝐄𝐊𝐆 /Sunset Boulevard\, sk/JaqullinGatiMally JeayssDuncan Grey𝕎𝕒𝕣𝕞 𝕦𝕡 (𝕃𝕠𝕦𝕟𝕘𝕖):&nbsp\;Papajay
LOCATION:Mikulov
END:VEVENT
END:VCALENDAR