BEGIN:VCALENDAR
VERSION:2.0
CALSCALE:GREGORIAN
PRODID:-//MyApp//Calendar 1.0//EN
BEGIN:VEVENT
METHOD:PUBLISH
UID:59903@regionalniportaly.cz
DTSTAMP:20260422T112314Z
DTSTART;VALUE=DATE:20251223
DTEND;VALUE=DATE:20251224
SUMMARY:Štěpánští koledníci - předvánoční koncert
DESCRIPTION:Štěpánští Koledníci\, kteří vznikli před více než dvěma desetiletími\, se zapsali do myslí posluchačů jako multižánrová vánoční kapela známá dnes i mimo region Podluží\, odkud pocházejí. Vánoční svátky oslavují hraním originálně znějících koled za využití rozmanité škály nástrojů a žánrů\, které vytvářejí jejich charakteristický zvuk. Ať už hledáte jedinečný sváteční koncert nebo firemní akci\, při každé příležitosti vnesou radostnou a okouzlující atmosféru.
LOCATION:Prušánky
END:VEVENT
END:VCALENDAR