BEGIN:VCALENDAR
VERSION:2.0
CALSCALE:GREGORIAN
PRODID:-//MyApp//Calendar 1.0//EN
BEGIN:VEVENT
METHOD:PUBLISH
UID:58957@regionalniportaly.cz
DTSTAMP:20260422T114010Z
DTSTART;VALUE=DATE:20251127
DTEND;VALUE=DATE:20251128
SUMMARY:To nejlepší z muzikálů
DESCRIPTION:Herci a zpěváci z Městkého divadla v Brně opět přijíždí do Vémyslic do zrekonstruované Sokolovny a přiváží "TO NEJLEPŠÍ Z MUZIKÁLŮ!".Těšit se můžete na Janu Musilovou\, Radku Coufalovou\, Libora Matouše a Roberta Jíchu.
LOCATION:Vémyslice
END:VEVENT
END:VCALENDAR