BEGIN:VCALENDAR
VERSION:2.0
CALSCALE:GREGORIAN
PRODID:-//MyApp//Calendar 1.0//EN
BEGIN:VEVENT
METHOD:PUBLISH
UID:58416@regionalniportaly.cz
DTSTAMP:20260422T130429Z
DTSTART;VALUE=DATE:20251003
DTEND;VALUE=DATE:20251004
SUMMARY:Mikulovské běhobraní
DESCRIPTION:„Víno\, ženy\, zpěv – a nově i běh!“ Po loňském nultém ročníku běhu na Svatý kopeček vás zveme na první Mikulovské běhobrání\, které proběhne v pátek 3. října.\nStart i cíl budou v Amfiteátru pod Turoldem\, kde v podvečer vyroste zázemí závodu Prima CUP i doprovodný program se živou cimbálovou muzikou.\nCo vás čeká\n\nStart závodu: 17:30 hod.\nDélka a trasa: 5 km – Amfiteátr → Kozí hrádek → historické centrum → Svatý kopeček → Amfiteátr\nStart a cíl: Amfiteátr pod Turoldem\nStartovné: 200 Kč\nAtmosféra: večerní sportovní program\, vyhlášení\, hodnotné ceny a cimbálovka\n
LOCATION:Mikulov
END:VEVENT
END:VCALENDAR