BEGIN:VCALENDAR
VERSION:2.0
CALSCALE:GREGORIAN
PRODID:-//MyApp//Calendar 1.0//EN
BEGIN:VEVENT
METHOD:PUBLISH
UID:58399@regionalniportaly.cz
DTSTAMP:20260422T141156Z
DTSTART;VALUE=DATE:20251101
DTEND;VALUE=DATE:20251102
SUMMARY:Koncert W. A. Mozart - Requiem
DESCRIPTION:Odborný úvod k dílu v 17:15&nbsp\;přednese pedagožka Mgr.&nbsp\;Lenka Kučerová&nbsp\;z Masarykovy univerzity.Samotný koncert začíná v 18:00 v podání&nbsp\;Hodonínského&nbsp\;symfonického&nbsp\;orchestrua pěveckého sboru Vox Iuvenalis a sólistů.Diriguje: doc. Jan Ocetek\, Ph.D.
LOCATION:Prušánky
END:VEVENT
END:VCALENDAR