BEGIN:VCALENDAR
VERSION:2.0
CALSCALE:GREGORIAN
PRODID:-//MyApp//Calendar 1.0//EN
BEGIN:VEVENT
METHOD:PUBLISH
UID:58271@regionalniportaly.cz
DTSTAMP:20260422T155407Z
DTSTART;VALUE=DATE:20251027
DTEND;VALUE=DATE:20251028
SUMMARY:Lukáš Pavlásek - Zmatení komiků
DESCRIPTION:
LOCATION:Mikulov
END:VEVENT
END:VCALENDAR