BEGIN:VCALENDAR
VERSION:2.0
CALSCALE:GREGORIAN
PRODID:-//MyApp//Calendar 1.0//EN
BEGIN:VEVENT
METHOD:PUBLISH
UID:58124@regionalniportaly.cz
DTSTAMP:20260422T112251Z
DTSTART;VALUE=DATE:20251018
DTEND;VALUE=DATE:20251019
SUMMARY:Basta Fidli Drakulovi
DESCRIPTION:Slovenský divadelní soubor Šáchor ze Zohora uvede autorskou výpravnou komedii o první upírce na slovenském Záhoří. Nabízí divákovi veselým způsobem převyprávěný příběh ne přímo o Drákulovi\, ale o tom\, jak a proč vznikla na Záhoří první upírka jménem „DRAKULICA – PIJAVICA“. Diváci uvidí příběh Reveny\, která milovala nade vše pizzu a dala by za ni i život. Stala se majitelkou rodinné pizzerie Salsicia v městečku pod hradem\, kde kdysi žil hrabě Drakula. Pizzerie má už své nejlepší časy za sebou. Všechno změní objev zaprášeného tajemného obrazu. Přiláká na hrad turisty a masy lidí. Co však z toho\, když do městečka pod hradem nikdo nezabloudí. Revenino srdce ovládla touha po penězích\, moci a co víc – po věčném mládí a kráse. Byla ochotna zajít dál\, než si dokážeme představit.
LOCATION:Boleradice
END:VEVENT
END:VCALENDAR