BEGIN:VCALENDAR
VERSION:2.0
CALSCALE:GREGORIAN
PRODID:-//MyApp//Calendar 1.0//EN
BEGIN:VEVENT
METHOD:PUBLISH
UID:58078@regionalniportaly.cz
DTSTAMP:20260422T124512Z
DTSTART;VALUE=DATE:20250919
DTEND;VALUE=DATE:20250921
SUMMARY:Vinobraní 2025\, posezení u burčáku - Čejkovice
DESCRIPTION:Přijďte k nám\, do vinařského dvora v Čejkovicích\, oslavit nejdůležitější svátek vinařova roku!Pátek 19. 9. 2025 10:00 - 22:00Sobota 20. 9. 2025 10:00 - 22:00Neděle 21. 9. 2025 10:00 - 14:00Místo:&nbsp\;Vinařský dvůr Víno Drábek - V Sadech 420\, ČejkoviceUžijte si posezení u lahodného burčáku a ochutnejte naše vína minulých ročníků. Společně s námi oslavte sklizeň hroznů a zažijte krásný den plný radosti a výborného vína!Svá vína a burčák představí také&nbsp\;Vinařství Urbánek!Co Vás čeká:Možnost ochutnat a zakoupit burčák našich odrůd.Degustace našich vín minulých ročníků.Živá hudba se zpěvem -&nbsp\;Erik Veverka - Llaericc.Menší občerstvení\, které perfektně doplňuje naše vína.Příjemná atmosféra\, která Vás vtáhne do vinařského ducha.Nejnovější informace naleznete na&nbsp\;události na Facebooku.Jestli hledáte ubytování\, pomůže seznam na stránkách obce.Prosíme o sdílení a pozvání přátel.Těšíme se na setkání s Vámi a na společné okamžiky plné chutí a veselí!
LOCATION:Čejkovice
END:VEVENT
END:VCALENDAR