BEGIN:VCALENDAR
VERSION:2.0
CALSCALE:GREGORIAN
PRODID:-//MyApp//Calendar 1.0//EN
BEGIN:VEVENT
METHOD:PUBLISH
UID:57349@regionalniportaly.cz
DTSTAMP:20260422T143354Z
DTSTART;VALUE=DATE:20251115
DTEND;VALUE=DATE:20251116
SUMMARY:Sv. Martin na Hovoransku 2025 – den otevřených sklepů
DESCRIPTION:Akce se koná 15. listopadu od 11.00 hod. Na již 11. ročníku můžete ochutnat jak mladá a&nbsp\;Svatomartinská vína od našich vinařů\, tak výběr minulých ročníků. Večer se můžete těšit na zábavu s&nbsp\;cimbálovou muzikou.Prodej vína je i&nbsp\;v neděli 16. listopadu 2025&nbsp\;od 9.00 do 12.00 hod
LOCATION:Hovorany
END:VEVENT
END:VCALENDAR