BEGIN:VCALENDAR
VERSION:2.0
CALSCALE:GREGORIAN
PRODID:-//MyApp//Calendar 1.0//EN
BEGIN:VEVENT
METHOD:PUBLISH
UID:56727@regionalniportaly.cz
DTSTAMP:20260422T112205Z
DTSTART;VALUE=DATE:20251003
DTEND;VALUE=DATE:20251004
SUMMARY:Bruckner Requiem
DESCRIPTION:Večer v kulturním domě v Drnholci nabídne tři rozmanité kompozice spojující různorodé hudební jazyky a časová období. Zahájí jej premiéra současného díla Landscape: SunReflections od Tomáše Pálky a Michaely Pálky Plachké – kontemplativní pohled na zvukovou krajinu a proměny světla. Následně zazní lyrická a vřelá Serenáda Josefa Suka – rané dílo českého romantismu\, které okouzlí melodickou invencí a noblesou.Závěrečným vrcholem bude monumentální Requiem d moll Antona Brucknera – hluboce osobní a duchovní skladba mladého skladatele\, která předznamenává jeho pozdější symfonickou velikost.Na koncertě zahraje Komorní orchestr Thayatal\, který je složený převážně z hráčů&nbsp\; Janáčkova divadla v Brně\,&nbsp\; pod vedením švýcarského dirigenta Sébastiena Bagnouda.Vokálního partu se ujme smíšený sbor z Brna Ars Brunensis. Jako sólisté se představí:&nbsp\;Lenka Cafourková&nbsp\;– sopránIva Kružíková&nbsp\;– mezzosopránFilip Šťovíček&nbsp\;– tenorJosef Kovačič&nbsp\;– basVíce na:www.opus-organum.euTěšíme se na vás!
LOCATION:Drnholec
END:VEVENT
END:VCALENDAR