BEGIN:VCALENDAR
VERSION:2.0
CALSCALE:GREGORIAN
PRODID:-//MyApp//Calendar 1.0//EN
BEGIN:VEVENT
METHOD:PUBLISH
UID:56350@regionalniportaly.cz
DTSTAMP:20260422T141206Z
DTSTART;VALUE=DATE:20250831
DTEND;VALUE=DATE:20250901
SUMMARY:Rozloučení s létem s Leonou Machálkovou
DESCRIPTION:POP-ROCKOVÝ KONCERT LEONY MACHÁLKOVÉ S KAPELOUKoncertní show Leony s kapelou přináší strhující energický poprockový program z nejznámějších hitů této zpěvačky s nezaměnitelným hlasem. Její písně se silnými melodiemi doprovází kapela v originálních moderních aranžích\, které sází na skvělé muzikantské výkony.
LOCATION:Lednice
END:VEVENT
END:VCALENDAR