BEGIN:VCALENDAR
VERSION:2.0
CALSCALE:GREGORIAN
PRODID:-//MyApp//Calendar 1.0//EN
BEGIN:VEVENT
METHOD:PUBLISH
UID:56146@regionalniportaly.cz
DTSTAMP:20260422T143416Z
DTSTART;VALUE=DATE:20250920
DTEND;VALUE=DATE:20250921
SUMMARY:19. HLOHOVECKÉ VINOBRANÍ / Horkýže Slíže\, Elán Kontra Band
DESCRIPTION:Spolek Hlohovčané\, Obec Hlohovec a Sdružení hlohoveckých vinařůVás společně zvou na19. HLOHOVECKÉ VINOBRANÍkteré se bude konat v sobotu 20. září 2025&nbsp\;od 15:00 před místním kulturním domem v Hlohovci.Můžete se těšit na originální moravský energy drink „burčák“ a vína přímo od hlohoveckých vinařů\, bohatý kulturní program\, atrakce pro děti\, stánky se specialitami pro gurmány.V programu se můžete těšit na :Horkýže Slíže&nbsp\;- rock\, punk&nbsp\;/&nbsp\;www.horkyzeslize.skElán Kontra Band -&nbsp\;pop\, rock / www.kontraband.skBlue Cimbal&nbsp\;- pop\, folk /&nbsp\;www.bluecimbal.comCM Longaa další spousta zábavyAreál bude otevřen od 14:30Akce se budou účastnit místní vinaři. Jako občerstvení zde budou grilované speciality\, klobásy\, sýry\, palačinky\, selátko ... a samozřejmě i pivo\, limo.
LOCATION:Hlohovec
END:VEVENT
END:VCALENDAR