BEGIN:VCALENDAR
VERSION:2.0
CALSCALE:GREGORIAN
PRODID:-//MyApp//Calendar 1.0//EN
BEGIN:VEVENT
METHOD:PUBLISH
UID:56102@regionalniportaly.cz
DTSTAMP:20260422T100125Z
DTSTART;VALUE=DATE:20251201
DTEND;VALUE=DATE:20251202
SUMMARY:Lenka Filipová
DESCRIPTION:Lenka Filipová je výjimečná česká zpěvačka\, šansoniérka\, kytaristka\, skladatelka a textařka . Pochází z umělecké rodiny – otec Adolf Filip byl operní pěvec a herec\, matka vyučovala hudební výchovu a hrála na kytaru.&nbsp\;U kytary začala už jako dítě a vystudovala ji na pražské konzervatoři (u Štěpána Urbana a Milana Zelenky) i na pařížské Mezinárodní hudební akademii klasické hudby. Je schopná zpívat a komponovat ve více jazycích – mluví česky\, francouzsky\, anglicky a rusky.&nbsp\;Ve svých šestnácti letech absolvovala první zahraniční turné – s BROLN do USA a Kanady – a během studií už působila jako moderátorka a hostovala v divadle Semafor či v pořadech Karla Gotta.Její průlomový singl „Zamilovaná“ z roku 1981 vznikl díky spolupráci s francouzským písničkářem Francisem Cabrelem\, český text napsal Zdeněk Rytíř. Debutové album mělo velký úspěch a získalo Zlatou desku.V osmdesátých letech vydala několik alb s hity jako „Věnování“\, „Za všechno může čas“ nebo „Řeka života“. Získala ocenění na mezinárodních festivalových soutěžích – Grand Prix na Antilách\, stříbrnou Bratislavskou lyru i ocenění v polských Sopotech.Lenka Filipová je symbolem citlivé písničkářky s mistrovským citem pro kytaru\, intimní interpretace i nadčasová poetika.&nbsp\;
LOCATION:Čejkovice
END:VEVENT
END:VCALENDAR