BEGIN:VCALENDAR
VERSION:2.0
CALSCALE:GREGORIAN
PRODID:-//MyApp//Calendar 1.0//EN
BEGIN:VEVENT
METHOD:PUBLISH
UID:55990@regionalniportaly.cz
DTSTAMP:20260422T141120Z
DTSTART;VALUE=DATE:20251017
DTEND;VALUE=DATE:20251018
SUMMARY:NOCTURNO | KAMPANILA 2025
DESCRIPTION:Mimořádný GALAKONCERT u příležitosti jubilejního ročníku festivalu KAMPANILA MIKULOV.
LOCATION:Mikulov
END:VEVENT
END:VCALENDAR