BEGIN:VCALENDAR
VERSION:2.0
CALSCALE:GREGORIAN
PRODID:-//MyApp//Calendar 1.0//EN
BEGIN:VEVENT
METHOD:PUBLISH
UID:55983@regionalniportaly.cz
DTSTAMP:20260422T143319Z
DTSTART;VALUE=DATE:20250919
DTEND;VALUE=DATE:20250920
SUMMARY:Velkopavlovické vinobraní 2025
DESCRIPTION:Velkopavlovické vinobraní má mnohaletou tradici. Nabízí bohatý kulturní program zaměřený na místní folklór\, ale také na populární\, popř. rockovou hudbu. V letošním roce vystoupí CM Lašár\, CM Cirváš\, Darebný ženy\, DH Zlaťulka\, ale také se můžete těšit na slovenský FS Leváran\, dětské folklórní soubory a samozřejmě na slavnostní průvod místní krojované chasy ulicemi města.Dále vystoupí PANOPTIKO\, Sára Milfajtová\, The Teachers\, JAMA\, Quanti MinorisK Velkopavlovickému vinobraní patří samozřejmě ochutnávka burčáků a vín od místních vinařů.Začínáme v pátek podvečer a končíme sobotní půnocí.
LOCATION:Velké Pavlovice
END:VEVENT
END:VCALENDAR