BEGIN:VCALENDAR
VERSION:2.0
CALSCALE:GREGORIAN
PRODID:-//MyApp//Calendar 1.0//EN
BEGIN:VEVENT
METHOD:PUBLISH
UID:55549@regionalniportaly.cz
DTSTAMP:20260422T213020Z
DTSTART;VALUE=DATE:20250906
DTEND;VALUE=DATE:20250907
SUMMARY:Mutěnské vinobraní
DESCRIPTION:Amfiteátr Pod Búdama\, Mutěnice5.–7. září 2025Tradiční slavnosti vína v Mutěnicích nabídnou pestrý program plný folkloru\, hudby a vína. Těšit se můžete na průvod s dechovou hudbou\, folklorní vystoupení\, dražbu vín\, koncerty skupin No Name a Docuku a divadelní představení Ořechovského divadla.
LOCATION:Mutěnice
END:VEVENT
END:VCALENDAR