BEGIN:VCALENDAR
VERSION:2.0
CALSCALE:GREGORIAN
PRODID:-//MyApp//Calendar 1.0//EN
BEGIN:VEVENT
METHOD:PUBLISH
UID:55446@regionalniportaly.cz
DTSTAMP:20260422T195828Z
DTSTART;VALUE=DATE:20250802
DTEND;VALUE=DATE:20250803
SUMMARY:Šardické sklepy dokořán
DESCRIPTION:Šardičtí vinaři zvou všechny příznivce dobrého vína. Ochutnáte vína jak malovinařů\, tak profesionálních výrobců v 18 sklepech. Akce se koná od 11 do 19 hodin&nbsp\;bez ohledu na počasí. Drobné pohoštění ve sklepech samozřejmostí.Večerní posezení u cimbálu v areálu Statek Šardice (sklep&nbsp\; č. 12) a diskotéka v areálu fotbalového hřiště (Hospoda u Alberta) pro návštěvníky sklepů opět zdarma.
LOCATION:Šardice
END:VEVENT
END:VCALENDAR