BEGIN:VCALENDAR
VERSION:2.0
CALSCALE:GREGORIAN
PRODID:-//MyApp//Calendar 1.0//EN
BEGIN:VEVENT
METHOD:PUBLISH
UID:55286@regionalniportaly.cz
DTSTAMP:20260422T215455Z
DTSTART;VALUE=DATE:20250823
DTEND;VALUE=DATE:20250824
SUMMARY:DESmod + Neoveská Cimbálová muzika
DESCRIPTION:Zveme vás na jedinečný letní zážitek plný hudby\, chutí a pohody!Pod rozhlednou&nbsp\;u Vinařství U Kapličky v termínu 23.8.2025 vystoupí slovenská rocková stálice DESmod spolu s Neoveskou cimbálovou muzikou. Čekají vás nezapomenutelná vystoupení plná hitů\, výhledy na Pálavu\, západ slunce nad vinohrady\, skvělá vína\, osvěžující drinky a bohaté občerstvení.Vezměte deku\, přátelé a dobrou náladu – pojďte si s námi užít krásný letní den\, kde se propojí rock\, cimbál a jižní Morava.
LOCATION:Zaječí
END:VEVENT
END:VCALENDAR