BEGIN:VCALENDAR
VERSION:2.0
CALSCALE:GREGORIAN
PRODID:-//MyApp//Calendar 1.0//EN
BEGIN:VEVENT
METHOD:PUBLISH
UID:54937@regionalniportaly.cz
DTSTAMP:20260422T162250Z
DTSTART;VALUE=DATE:20250613
DTEND;VALUE=DATE:20250614
SUMMARY:Rockový koncert pro Jindru aneb Wine's not dead. Zahrají Tři sestry a hosté
DESCRIPTION:Vážení přátelé dobrého vína\, dobré muziky a dobrého srdce\, v pátek 13. června se v Mikulově v amfiteátru uskuteční dobročinné vystoupení skupiny Tři sestry a jejích hostů pod názvem Rockový koncert pro Jindru aneb Wine's not dead.\nJindra Kadrnka byl jedním z nejlepších vinařů v České republice. Patriot z Březí\, srdcař a kamarád\, který dokázal propojit lásku k vínu s vášní pro rock. Skupina Tři Sestry měla v jeho srdci výjimečné místo – jejich písně zněly v jeho sklepě a jejich symboly zdobily vinné etikety. Plánoval uspořádat jejich koncert ve svém rodném kraji. To už bohužel nestihl. Po krátké nemoci odešel – a zůstala po něm spousta nedokončených snů.\nTímto koncertem se Jindrova rodina a přátelé snaží jeden z těch snů naplnit. Zároveň tím chtějí podpořit ty\, kteří zůstali\, aby mohli pokračovat v psaní příběhu Vinařství Kadrnka. Aby mohl i Jindrův syn jednou převzít otěže a uchovat to\, co měl jeho táta – a my všichni – tak rádi: skvělé moravské víno\, sklep plný života a hudbu\, která spojuje.\nBěžnou vstupenku můžete zakoupit přes Ticketstream.\nPokud ovšem chcete přispět více a strávit koncert v pěkně zařízené VIP zóně\, je možné se obrátit přímo na Marcelu Kadrnkovou\, která tyto VIP vstupenky osobně distribuuje přímo ve svém vinařství. Minimální cena je 2.500 Kč za osobu\, ale přispět můžete i více. Pozor! 100 % vámi poukázané částky za VIP vstupenku jde Marcele Kadrnkové bez jakýchkoliv poplatků či srážek. 
LOCATION:Mikulov
END:VEVENT
END:VCALENDAR