BEGIN:VCALENDAR
VERSION:2.0
CALSCALE:GREGORIAN
PRODID:-//MyApp//Calendar 1.0//EN
BEGIN:VEVENT
METHOD:PUBLISH
UID:54835@regionalniportaly.cz
DTSTAMP:20260422T214853Z
DTSTART;VALUE=DATE:20250824
DTEND;VALUE=DATE:20250825
SUMMARY:Rozloučení s prázdninami se Štístkem a Poupěnkou
DESCRIPTION:Rozloučení s prázdninami se Štístkem a Poupěnkou v Amfiteátru pod Búdama - MutěniceZábavná akce vhodná pro děti od 2 let.
LOCATION:Mutěnice
END:VEVENT
END:VCALENDAR