BEGIN:VCALENDAR
VERSION:2.0
CALSCALE:GREGORIAN
PRODID:-//MyApp//Calendar 1.0//EN
BEGIN:VEVENT
METHOD:PUBLISH
UID:54390@regionalniportaly.cz
DTSTAMP:20260422T125522Z
DTSTART;VALUE=DATE:20250918
DTEND;VALUE=DATE:20250919
SUMMARY:Sirény na cestách
DESCRIPTION:SIRÉNY NA CESTÁCHSandra Pogodová - Jitka Asterová - Linda FinkováZcela nová zábavná talk show ženské trojice hereček a zpěvaček Sandry Pogodové\, Jitky Asterové a Lindy Finkové\, jejich neotřelý smysl pro humor a vzájemná chuť si ze sebe utahovat vás rozhodně pobaví.Pořad je plný šťavnatých vyprávění a historek ze zákulisí natáčení a divadelního světa.To vše prošpikováno šansony a písněmi z muzikálů tvoří dokonalý program\, na který budete dlouho vzpomínat s úsměvem na tváři.Po skončení pořadu následuje jako bonus autogramiáda.Web pořadu: Sirény na cestách (S.Pogodová\, J.Asterová\, L.Finková) - Umělecká agentura Gardeshttps://gardes.cz/sireny-na-cestach-s-pogodoval-finkovaj-asterova/
LOCATION:Ždánice
END:VEVENT
END:VCALENDAR