BEGIN:VCALENDAR
VERSION:2.0
CALSCALE:GREGORIAN
PRODID:-//MyApp//Calendar 1.0//EN
BEGIN:VEVENT
METHOD:PUBLISH
UID:54387@regionalniportaly.cz
DTSTAMP:20260422T212922Z
DTSTART;VALUE=DATE:20250816
DTEND;VALUE=DATE:20250817
SUMMARY:Nazareth (UK)
DESCRIPTION:Do ČR se vrací renomovaná hardrocková kapela Nazareth. Naposledy pod hlavičkou Brnokoncert zahráli v roce 2017.Jejich letošní koncert se bude konat v&nbsp\;sobotu 16. 8. 2025 v oblíbeném Amfiteátru Pod Turoldem\, kde vystoupí od 20 hodin.Brány areálu se otevřou už v 16:30 a hudební program večera odstartuje partička ST. JOHNNY.Časový plán:16:30 otevření areálu17:00 ST. JOHNNY20:00 Nazareth (UK)
LOCATION:Mikulov
END:VEVENT
END:VCALENDAR