BEGIN:VCALENDAR
VERSION:2.0
CALSCALE:GREGORIAN
PRODID:-//MyApp//Calendar 1.0//EN
BEGIN:VEVENT
METHOD:PUBLISH
UID:53950@regionalniportaly.cz
DTSTAMP:20260422T112344Z
DTSTART;VALUE=DATE:20251016
DTEND;VALUE=DATE:20251017
SUMMARY:Galakoncert KAMPANILA 2025 | Martin Chodúr
DESCRIPTION:Mimořádný GALAKONCERT u příležitosti jubilejního ročníku festivalu KAMPANILA MIKULOV.
LOCATION:Mikulov
END:VEVENT
END:VCALENDAR