BEGIN:VCALENDAR
VERSION:2.0
CALSCALE:GREGORIAN
PRODID:-//MyApp//Calendar 1.0//EN
BEGIN:VEVENT
METHOD:PUBLISH
UID:53810@regionalniportaly.cz
DTSTAMP:20260422T161457Z
DTSTART;VALUE=DATE:20250906
DTEND;VALUE=DATE:20250907
SUMMARY:Putování za burčákem po Modrých Horách
DESCRIPTION:Razítkovací místa ve všech obcích otevřena od 9:00 do 18:00 hod.. Velké Pavlovice\, Němčičky\, Bořetice\, Kobylí a Vrbice. Kochejte se pěšky či na kole krásami a zajímavostmi Modrých Hor a ochutnejte nejen výborný burčák. Oficiální start od 9:00 hod z venkovního areálu Sokokolovny Velkých Pavlovicích ...Jak název akce napovídá\, jedná se o putování (nejen) mezi vinohrady\, od jednoho razítkovacího místa ke druhému. Do mapky (která je součástí balíčku)&nbsp\;budete na zadní straně "sbírat" razítka a ještě k tomu na každém razítkovacím místě zdarma dostanete 0\,5 dl&nbsp\;burčáku k ochutnání. Jestli zvolíte kolo nebo chůzi\, to záleží pouze na vás\, nejde zase o tak náročný terén. Na jednotlivých razítkovacích místech se můžete občerstvit co hrdlo ráčí.Pokud budete šikovní a podaří se vám navštívit minimálně 5 razítkovacích míst\, získáte "pamětní list" \, abyste na nás nezapomněli a zase za rok si to zopakovali. Pamětní list je k vyzvednutí na starovacích místech v obcích a také v cíli do 20h.DEN KONÁNÍ AKCE -&nbsp\;sobota 6. září 2025&nbsp\;- Sokolovna ve Velkých PavlovicíchOFICIÁLNÍ START -&nbsp\;Velké Pavlovice - v 9:00 hodin - Sokolovna&nbsp\;V.P. (start je pohodový - relaxační - putování není na čas - je možné startovat i z kterékoli obce Modrých Hor\, kde je možné zakoupit startovací balíček\, níže jsou tyto místa uvedena)OFICIÁLNÍ CÍL -&nbsp\;Velké Pavlovice - 14:00 až 20:00 hodin - Sokolovna V.P.RAZÍTKOVACÍ MÍSTA&nbsp\;otevřena od 9:00 hod. do 18:00 hod.DÉLKA doporučené trasy:pěší - cca 13 kmcyklo - cca 26 kmGASTROZÁŽITKY NA RAZÍTKOVACÍCH MÍSTECH + kontakty:...Další možnost výběru trasy po značené cyklostezce Modré Hory:Cyklostezky v regionuPěší stezky v regionuNejoblíbenější turistické cíle&nbsp\;v Modrých Horách
LOCATION:Velké Pavlovice
END:VEVENT
END:VCALENDAR