BEGIN:VCALENDAR
VERSION:2.0
CALSCALE:GREGORIAN
PRODID:-//MyApp//Calendar 1.0//EN
BEGIN:VEVENT
METHOD:PUBLISH
UID:53379@regionalniportaly.cz
DTSTAMP:20260422T041921Z
DTSTART;VALUE=DATE:20260405
DTEND;VALUE=DATE:20260406
SUMMARY:Velikonoční otevřené sklepy 2026
DESCRIPTION:Poslední vstupenky v předprodeji! Pouze omezený počet vstupenek!Vinaři z Čejkovic\, z.s. Vás zvou na Velikonoční otevřené sklepy&nbsp\;do Čejkovic.Prodej vstupenek (pouze hotovost) a vyzvednutí z&nbsp\;předprodeje bude probíhat v neděli na Zámku (Templářská 1) v Čejkovicích od 9:00 hod.Od 10:00 se Vám otevřou brány vinařství.Vzhledem k velkému zájmu&nbsp\;bude výdej a prodej vstupenek možný už v sobotu od 17:00 do 18:00 na Zámku (Templářská 1) v Čejkovicích.V ceně vstupenky je neomezená konzumace vzorků a&nbsp\;kupóny&nbsp\;v hodnotě 400 Kč na nákup lahví.&nbsp\;Projdete se malebnými zákoutími obce\, kde budete mít možnost navštívit 17 vinařství a ochutnat jejich vína.Celkem lze ochutnat přes 200 vzorků z vinařství:&nbsp\;Víno HnidákVíno DrábekVinařství Jaroslav PavkaVinařství GertnerVinařství Petr NovotnýVinařství VITISBERGVinařství Leoš UrbánekVinařství DědVinařství PlundrákVinařství Ing. Vratislav Hycl a synVinařství KotekVinařství Radek LatíkVinařství Pod VíchůVinařství ŠťavíkVíno NěmečekVínařství KohútVíno FabiánVinařství OpluštiloviPři putování mezi sklepy se můžete občerstvit u několika stánků\, v&nbsp\;místních kavárnách a restauracích.Pokud by Vás zradily nohy\, můžete využít k&nbsp\;přepravě mezi jednotlivými sklepy KONIBUS\, který bude jezdit od 12:00.V sobotu 4.4. se můžete jako každoročně těšit na cimbálovou&nbsp\;muziku pozdní sběr ve vinárně v Čejkovicích od 19:00-22:00. Prosím rezervaci na tel. 777566770 \, 518372604\, nebo na e-mailu: rezervace@vinarnacejkovice.czJestli hledáte ubytování\, pomůže seznam na&nbsp\;stránkách obce&nbsp\;a e-chalupy.cz.Případně pro Vás máme tipy v nejbližším okolí:Vrbice&nbsp\;(4 km - pěšky přes les a vinice)Nový Poddvorov (5 km - jede přímý BUS)- Penzion u Lípy tel. 607706144Starý Poddvorov (5 km - jede přímý BUS)-&nbsp\;penzion Prygl-&nbsp\;ubytování v soukromí BlažejoviČejč&nbsp\;(5\,5 km - jede&nbsp\;přímý BUS)Mutěnice (9\,2&nbsp\;km - jede&nbsp\;BUS)Dolní Bojanovice (10\,1 km - jede&nbsp\;přímý BUS)Velké Bílovice&nbsp\;(10\,6 km)Bude jezdit také spousta taxíků.&nbsp\;Konec akce je naplánován na 20:00.Vína bude možné zakoupit také v pondělí 6. 4. 2026&nbsp\;od 10:00 do 12:00 v jednotlivých vinařstvích.Těšíme se na Vás!Vinaři z Čejkovic
LOCATION:Čejkovice
END:VEVENT
END:VCALENDAR