BEGIN:VCALENDAR
VERSION:2.0
CALSCALE:GREGORIAN
PRODID:-//MyApp//Calendar 1.0//EN
BEGIN:VEVENT
METHOD:PUBLISH
UID:52705@regionalniportaly.cz
DTSTAMP:20260422T162322Z
DTSTART;VALUE=DATE:20250607
DTEND;VALUE=DATE:20250608
SUMMARY:Na křídlech Baroka a Klasicismu
DESCRIPTION:Zastavte se na Vašem výletu do Lednicko-valtického areálu k odpolednímu občerstvení z pokladnic starých mistrů jakými byli A. Vivaldi\, G. F. Händel a další. Srdečně Vás zveme na odpolední koncert do krásného kostela v objektu zámku v Lednici na Moravě a těšíme se na koncert i na Vás...Pro další informace můžete shlédnout také&nbsp\;např.:Web souboru:&nbsp\;www.viennese tuning times.comnebo také&nbsp\;Facebook Viennese Tuning Times&nbsp\;a&nbsp\;Youtube Viennese Tuning Timesnebo pokračovat níže....
LOCATION:Lednice
END:VEVENT
END:VCALENDAR