BEGIN:VCALENDAR
VERSION:2.0
CALSCALE:GREGORIAN
PRODID:-//MyApp//Calendar 1.0//EN
BEGIN:VEVENT
METHOD:PUBLISH
UID:51586@regionalniportaly.cz
DTSTAMP:20260422T112242Z
DTSTART;VALUE=DATE:20251012
DTEND;VALUE=DATE:20251013
SUMMARY:Strašidelný zámecký park Ždánice
DESCRIPTION:Strašidelný zámecký parkDovolujeme si svolat všechny naše malé i velké čaroděje\, ježibaby\, černokněžníky a strašidýlka do naší strašidelné zahrady na zámku ve Ždánicích.Strašidelná soutěžní staviště\, každé dítě po splnění stezky obdrží odměnu.Pro děti bude připravený speciální diskoprogram\, který doprovodí naše strašidla ze známých pohádekZahrada plná strašidel jako jsou Čarodějnice\, Upíři\, Bludičky\, Wednesday\, Frankenstein\, Vampirína a další&nbsp\;&nbsp\;Mimo jiné se můžete těšit na další pohádkové kamarádyCelá zámecká zahrada tematicky vyzdobenáDJ Drákula&nbsp\;Malování na obličejSpousta kouzelných efektů\, výrobníky bublin\, kouře&nbsp\;Tematický fotokoutek&nbsp\;Občerstvení pro děti i dospělé&nbsp\;&nbsp\;&nbsp\;Kdy? Neděle 12. 10. 2025Kde? Zámecká zahrada ŽdániceV Kolik? Od 13:00 - 18:00
LOCATION:Ždánice
END:VEVENT
END:VCALENDAR