BEGIN:VCALENDAR
VERSION:2.0
CALSCALE:GREGORIAN
PRODID:-//MyApp//Calendar 1.0//EN
BEGIN:VEVENT
METHOD:PUBLISH
UID:50161@regionalniportaly.cz
DTSTAMP:20260422T162409Z
DTSTART;VALUE=DATE:20250531
DTEND;VALUE=DATE:20250601
SUMMARY:The Backbeat Beatles /UK/
DESCRIPTION:Britské kvarteto The Backbeat Beatles opět míří do České republiky.&nbsp\;Tento přední světový tribute band Beatles se tentokrát zaměří na slavné album *Abbey Road* z roku 1969. Na koncertech zazní hity jako *Something*\, *Here Comes The Sun*\, *Come Together*\, *Oh! Darling* a další.Kapelu založil v roce 1994 Chris O’Neill po úspěchu filmu *Backbeat*\, kde skupina ztvárnila Beatles. Film získal cenu Britské akademie za nejlepší hudbu. The Backbeat Beatles věrně napodobují originál nejen hudebně\, ale i kostýmy a choreografií. Za 25 let své existence vyprodali koncerty po celém světě\, od Liverpoolu přes New York až po Peking\, a vystupovali po boku hvězd jako Spandau Ballet či s Liverpoolským filharmonickým orchestrem.Zajímavostí je\, že je na pódiu doprovází klávesista v roli Billyho Prestona\, původního člena Beatles. Ve dvouhodinovém koncertu zahrají v první části skladby z *Abbey Road* a v druhé části další známé hity Beatles.Více informací naleznete na www.brnokoncert.cz.&nbsp\;
LOCATION:Mikulov
END:VEVENT
END:VCALENDAR