BEGIN:VCALENDAR
VERSION:2.0
CALSCALE:GREGORIAN
PRODID:-//MyApp//Calendar 1.0//EN
BEGIN:VEVENT
METHOD:PUBLISH
UID:49463@regionalniportaly.cz
DTSTAMP:20260422T213101Z
DTSTART;VALUE=DATE:20250829
DTEND;VALUE=DATE:20250830
SUMMARY:(Vý)letních 7 pádů Honzy Dědka
DESCRIPTION:(Vý)letních 7&nbsp\;pádů Honzy Dědka ve Velkých PavlovicíchZažijte sto minut nepřerušené zábavy ve společnosti hvězdných hostů pod taktovkou jedinečného moderátora Honzy Dědka\, který dokáže navodit bezprostřední atmosféru.V&nbsp\;rámci 12. ročníku hudebního festivalu Vinohraní zamíří zcela poprvé 7&nbsp\;pádů do Velkých Pavlovic\, a&nbsp\;to v&nbsp\;pátek 29. srpna 2025. Těšit se můžete na oblíbené herce Adélu Gondíkovou a Marka Taclíka.
LOCATION:Velké Pavlovice
END:VEVENT
END:VCALENDAR