BEGIN:VCALENDAR
VERSION:2.0
CALSCALE:GREGORIAN
PRODID:-//MyApp//Calendar 1.0//EN
BEGIN:VEVENT
METHOD:PUBLISH
UID:44910@regionalniportaly.cz
DTSTAMP:20260422T203747Z
DTSTART;VALUE=DATE:20240823
DTEND;VALUE=DATE:20240824
SUMMARY:Paměťová cesta
DESCRIPTION:Mít dlouhé vedení nebo rovnou okno? Každý to zná. Jak tedy udržet mozek v kondici?Vážně i nevážně o záludnostech paměti aneb na co nezapomínat při zapomínání...Ani tým Pastušky na Vás nezapomene a objedná pro Vás mňamky :-).Přijďte&nbsp\;dříve na večeři\, vínko\, kafíčko či koláček.Varianta sezení&nbsp\;bezmístenková. Svá místa si můžete sami vybrat včasným příchodem. Vše se odehraje ve stylovém interiéru Roubenky.Těšíme se na Vás!Cestou&nbsp\;osobního rozvoje\, pro udržení zdravé mysli nejen ve vyšším věku.&nbsp\;
LOCATION:Brod nad Dyjí
END:VEVENT
END:VCALENDAR