BEGIN:VCALENDAR
VERSION:2.0
CALSCALE:GREGORIAN
PRODID:-//MyApp//Calendar 1.0//EN
BEGIN:VEVENT
METHOD:PUBLISH
UID:42947@regionalniportaly.cz
DTSTAMP:20260422T091634Z
DTSTART;VALUE=DATE:20240629
DTEND;VALUE=DATE:20240630
SUMMARY:Navěky věků fest
DESCRIPTION:Na krásném místě s bohatou historií blízko přírodní památky Kalendář věků a&nbsp\;v srdci Pálavy jsme pro Vás 29.6.2024 připravili první ročník festivalu Navěky věků fest\, čeká Vás den plný hudby\, tance\, ale také výborného jídla\, vína i piva a příjemných setkání a to vše ve znamení nezapomenutelných hudebních zážitků napříč žánry a vzájemného propojování nálad.Byla by škoda nezažít téměř magickou energii místa ve spojení s vínem\, cimbálovou muzikou Longa\, představením mladých kapel Vzpomínky na dětství\, H!GH DADDY\, KULE a Martina Štěpánka\, ale i již zkušených hudebníků skupiny Gustavo Rojo a v neposlední řadě Jana Kalouska.
LOCATION:Dolní Věstonice
END:VEVENT
END:VCALENDAR