BEGIN:VCALENDAR
VERSION:2.0
CALSCALE:GREGORIAN
PRODID:-//MyApp//Calendar 1.0//EN
BEGIN:VEVENT
METHOD:PUBLISH
UID:41151@regionalniportaly.cz
DTSTAMP:20260422T092643Z
DTSTART;VALUE=DATE:20240417
DTEND;VALUE=DATE:20240421
SUMMARY:Mrštíkovo divadelní jaro - soutěžní divadelní přehlídka
DESCRIPTION:MDJ je regionální přehlídka venkovských divadelních souborů s postupem na národní přehlídku Krakonošův divadelní podzim. Pořadatelem přehlídky je Divadelní spolek bratří Mrštíků Boleradice za podpory Jihomoravského kraje a městyse Boleradice. Partnerem přehlídky je město Hustopeče. Je nám ctí\, že záštitu nad akcí opět převzal hejtman Jihomoravského kraje\, Jan Grolich. Přehlídka MDJ je jediná svého druhu v našem kraji.\nCílem této akce je podpořit ochotnické soubory\, nejen Jihomoravského kraje\, v jejich činnosti\, nabídnout metodickou pomoc prostřednictvím lektorského sboru\, který přehlídková představení hodnotí\, ale hlavně seznámit naše diváky s nejrůznějšími typy a druhy ochotnického divadla.\nOd středy 17. dubna do neděle 21. dubna bude zápolit devět divadelních souborů o postup na národní přehlídku: Sentický divadelní spolek\, Divadlo Prkno Veverská Bítýška\, Divadelníci Morkůvky\, Divadelní soubor VITUS Syrovice\, Divadelní soubor Pozpátku z Říčan u Brna\, Divadelní uskupení OchOtnice z Otnic\, Divadelní soubor AMADIS Popůvky\, Spojené farnosti Zbraslav a Divadlo vřesinských ochotníků. Jako host přehlídky vystoupí domácí divadelní soubor. Osm představení bude odehráno v v boleradickém divadle\, dvě v kině v Hustopečích.\nPodrobný program přehlídky najdete na webových stránkách Divadla Boleradice\, kde je také možné rezervovat a koupit vstupenky na představení v Boleradicích
LOCATION:Boleradice
END:VEVENT
END:VCALENDAR