BEGIN:VCALENDAR
VERSION:2.0
CALSCALE:GREGORIAN
PRODID:-//MyApp//Calendar 1.0//EN
BEGIN:VEVENT
METHOD:PUBLISH
UID:38971@regionalniportaly.cz
DTSTAMP:20260422T095916Z
DTSTART;VALUE=DATE:20240306
DTEND;VALUE=DATE:20240307
SUMMARY:Cestovatelské povídání: Mára Holeček - Simply Beautiful
DESCRIPTION:Marek Holeček - SIMPLY BEAUTIFULDechberoucí výšky\, drsná ledová krása a nepředstavitelné dobrodružství nás čekají na&nbsp\; Povídání s Márou Holečkem\, jedním z&nbsp\;nejúspěšnějších a nejzkušenějších horolezců současnosti\, který odmítá zažitou představu\, že vrcholem veškerého horolezeckého snažení je dosažení co nejvyšší nadmořské výšky. Stejně důležitými se pro něj&nbsp\; také staly obtížnost výstupu a styl\, jakým se k vrcholu dostane. A o tom je i prvovýstup Simply Beautiful.&nbsp\;A takhle nás zve Mára osobně: “Himalájské údolí Hunku mi v průběhu let umožnilo tři prvovýstupy na čarokrásné vrcholy\, kde radost z bytí střídal boj o jediný nádech. Společně si projdeme příběhy\, které nás vynesou nejen k vrcholům Sura Peaku\, Baruntse a Chamlangu\, ale též vrátí z výšin zpět na rovnou zem.”Povídání doprovodí filmové záběry a fotky a také nepálská kuchyně. Typické pokrmy vám opět připraví Eliška.&nbsp\;Marek Holečekje elitní horolezec\, cestovatel\, filmový dokumentarista\, spisovatel a fotograf.Zároveň je i dvojnásobným držitelem prestižních ocenění Piolet d’Or\, takzvaných Zlatých cepínů\, které dostal za prvovýstupy majestátními kolmými stěnami himalájských vrcholů Gašerbrum I a Chamlang.&nbsp\; Od roku 2007 uspořádal nespočet horolezeckých expedic po celém světě. Má na svém kontě víc jak desítku prvovýstupů.&nbsp\;Svým osobitým způsobem prezentace a&nbsp\;přednášení získal řadu cen na mezinárodních i tuzemských festivalech. …a to si rozhodně nemůžete nechat ujít.&nbsp\;www.marekholecek.cz&nbsp\;
LOCATION:Mikulov
END:VEVENT
END:VCALENDAR