BEGIN:VCALENDAR
VERSION:2.0
CALSCALE:GREGORIAN
PRODID:-//MyApp//Calendar 1.0//EN
BEGIN:VEVENT
METHOD:PUBLISH
UID:38813@regionalniportaly.cz
DTSTAMP:20260422T061721Z
DTSTART;VALUE=DATE:20240214
DTEND;VALUE=DATE:20240215
SUMMARY:Cestovatelské povídání - Pavel Svoboda: PERU
DESCRIPTION:Cestovatelské povídání - Pavel svoboda: PERU
LOCATION:Mikulov
END:VEVENT
END:VCALENDAR