BEGIN:VCALENDAR
VERSION:2.0
CALSCALE:GREGORIAN
PRODID:-//MyApp//Calendar 1.0//EN
BEGIN:VEVENT
METHOD:PUBLISH
UID:38670@regionalniportaly.cz
DTSTAMP:20260422T092314Z
DTSTART;VALUE=DATE:20240413
DTEND;VALUE=DATE:20240414
SUMMARY:Kali a Peter Pann RETROSTAR Tour 2024 - Zaječí
DESCRIPTION:Zveme vás na jedinečné vystoupení Kaliho &amp\; Peter Panna v Retro Clubu\, které se bude konat v rámci tour k nově vydanému albu RETROSTAR. Tento večer se můžete těšit také na Kaliho hvězdné hosty ALAN MURIN\, OSŤO HYPEMAN a ŠORTY (Evropa 2 SK).&nbsp\;&nbsp\;Za mixem DJ PMC
LOCATION:Zaječí
END:VEVENT
END:VCALENDAR