BEGIN:VCALENDAR
VERSION:2.0
CALSCALE:GREGORIAN
PRODID:-//MyApp//Calendar 1.0//EN
BEGIN:VEVENT
METHOD:PUBLISH
UID:38549@regionalniportaly.cz
DTSTAMP:20260422T092901Z
DTSTART;VALUE=DATE:20240331
DTEND;VALUE=DATE:20240401
SUMMARY:Velikonoční otevřené sklepy 2024
DESCRIPTION:ZBÝVAJÍ POSLEDNÍ VOLNÉ VSTUPENKY! Z důvodu velké účasti je výdej / osobní prodej vstupenek i v sobotu v Orlovně od 17:00 do 19:00.Vinaři z Čejkovic\, z.s. Vás zvou na Velikonoční otevřené sklepy&nbsp\;do Čejkovic.Od 9:00 si můžete vstupenky zakoupit (pouze hotovost\, bankomat KB hned u vchodu)\, případně vyzvednout z&nbsp\;předprodeje\, v Orlovně (vedle obecního úřadu) v Čejkovicích.&nbsp\;Od 10:00 pro Vás otevřeme brány vinařství.V ceně vstupenky je neomezená konzumace vzorků a&nbsp\;kupóny&nbsp\;v hodnotě 400 Kč na nákup lahví.&nbsp\;Projdete se malebnými zákoutími obce\, kde budete mít možnost navštívit 16 rodinných vinařství. Můžete ochutnat bílá vína\, svěží roséčka\, uležená červená\, případně frizzante a sekt.Celkem lze ochutnat přes 200 vzorků z vinařství:&nbsp\;Víno HnidákVíno DrábekVinařství Jaroslav PavkaVinařství GertnerVinařství Petr NovotnýVinařství VITISBERGVinařství Leoš UrbánekVinařství DědVinařství PlundrákVinařství Ing. Vratislav Hycl a synVinařství KotekVinařství Radek LatíkVinařství Pod VíchůVinařství ŠťavíkVíno NěmečekVínařství KohútPři putování mezi sklepy se můžete občerstvit u několika stánků\, v&nbsp\;místních kavárnách a restauracích:&nbsp\;Cukrárna U Polášků\,&nbsp\;Čejka café\,&nbsp\;Mexeso - street food\,&nbsp\;Vinárna U Templářských rytířů\, Restaurace Kuželna\,&nbsp\;Yes Papa foodtruck\,&nbsp\;francouzské palačinky\,&nbsp\;I need sushi\, Víno Drábek - španělská paella\,&nbsp\;Dobroty z ulity\, Snack bar - Na Pekárně\, grilované sele a foodtruck s langošema&nbsp\;apod.Pokud by Vás zradily nohy\, můžete využít k&nbsp\;přepravě mezi jednotlivými sklepy KONIBUS\, který bude jezdit od 12:00.Jestli hledáte ubytování\, pomůže seznam na stránkách obce.Konec akce je naplánován na 20:00.Další den\, v&nbsp\;pondělí 1. 4. od 10:00&nbsp\;do 12:00\, je možné zakoupit vína v jednotlivých vinařstvích.Nejnovější informace naleznete na události na Facebooku.Těšíme se na Vás!Vinaři z Čejkovic
LOCATION:Čejkovice
END:VEVENT
END:VCALENDAR