BEGIN:VCALENDAR
VERSION:2.0
CALSCALE:GREGORIAN
PRODID:-//MyApp//Calendar 1.0//EN
BEGIN:VEVENT
METHOD:PUBLISH
UID:37916@regionalniportaly.cz
DTSTAMP:20260422T075929Z
DTSTART;VALUE=DATE:20240302
DTEND;VALUE=DATE:20240303
SUMMARY:GATE Crasher & J. A. KRONEK a ALBAND v Šitbořicích
DESCRIPTION:Jedinečné spojení dvou jihomoravských hudebních celků\, které zažijete pouze na jediném místě - v sobotu 2.3.2024 v Šitbořicích!---GATE CrasherRocková smršť&nbsp\;GATE Crasher&nbsp\;je stále známějším jménem na&nbsp\;domácí scéně. Pravidelně vystupuje na&nbsp\;největších letních&nbsp\;festivalech\, hrála jako host zahraničních&nbsp\;hvězd&nbsp\;(Aerosmith \, Ozzy&nbsp\;Osbourne\, Korn\, Iron Maiden ..) a aktuálně&nbsp\;boduje s novinkou&nbsp\;JAKO VLCI\, která se&nbsp\;rychle stává nejúspěšnější peckou v její historii.&nbsp\;Prezentace&nbsp\;nejnovějších singlů&nbsp\;a šesté řadové desky\,&nbsp\;spolu s osvědčenými hity&nbsp\;kapely\, bude&nbsp\;náplní sezony 2024.---J. A. KRONEK a ALBAND&nbsp\;Jaroslav Albert Kronek\, po mnoho let výrazný frontman legendární skupiny&nbsp\;Kern&nbsp\;a později kapelník svého vlastního projektu&nbsp\;Alband\,&nbsp\; je na cestě po českých podiích při své&nbsp\;BLÍZKO NÁS TOUR 2024. Turné připomene všem věrným fanouškům charismatického zpěváka staré oblíbené pecky Kernu. Zároveň ale představí i to nejnovější z dílny Albandu\, který má právě výročí založení.&nbsp\;Je na scéně polokulatých&nbsp\;15 let!A aby těch jubileí nebylo málo\, slaví J.A. Kronek v roce 2024 svoje sedmdesátiny. Je tu tedy hned několik důvodů\, proč si nenechat ujít vystoupení\, při kterých zpěváka doprovodí jeho mnohaletý textařský\, pěvecký a basový parťák&nbsp\;Libor Machata\, bubeník&nbsp\;Víťa Franěk&nbsp\;a kytarista&nbsp\;Michal Pospíšil.
LOCATION:Šitbořice
END:VEVENT
END:VCALENDAR