BEGIN:VCALENDAR
VERSION:2.0
CALSCALE:GREGORIAN
PRODID:-//MyApp//Calendar 1.0//EN
BEGIN:VEVENT
METHOD:PUBLISH
UID:37556@regionalniportaly.cz
DTSTAMP:20260422T055946Z
DTSTART;VALUE=DATE:20231228
DTEND;VALUE=DATE:20231229
SUMMARY:Předsilvestrovská zábava
DESCRIPTION:K poslechu a tanci hraje Skupina Modul a DJ The-BČeká na Vás fotokoutek a mnoho dalšího.
LOCATION:Klobouky u Brna
END:VEVENT
END:VCALENDAR