BEGIN:VCALENDAR
VERSION:2.0
CALSCALE:GREGORIAN
PRODID:-//MyApp//Calendar 1.0//EN
BEGIN:VEVENT
METHOD:PUBLISH
UID:36930@regionalniportaly.cz
DTSTAMP:20260422T055329Z
DTSTART;VALUE=DATE:20240127
DTEND;VALUE=DATE:20240128
SUMMARY:Pekáč u Palánů
DESCRIPTION:První akce Hudebního klubu Freeda. Hudební večírek\, posezení\, káva\, dezerty\, víno a sýry k ochutnání. Hraje The Young Pekáč Mojmíra Bártka\, dlouholetého člena orchestru Gustava Broma.\n \nAtmosféra městských hudebních klubů zavane i na venkov!
LOCATION:Boleradice
END:VEVENT
END:VCALENDAR